View In:
ArcGIS JavaScript
ArcGIS Online Map Viewer
ArcGIS Earth
ArcMap
View Footprint In:
ArcGIS Online Map Viewer
Service Description: Anacostia imagery depicting year 2000 ground conditions captured by Ikonos satellite. Scenes from Spring 1999 and 2000 were mosiaced by RESAC.
Name: DEP/anacostia_ikonos_2000
Description: Anacostia imagery depicting year 2000 ground conditions captured by Ikonos satellite. Scenes from Spring 1999 and 2000 were mosiaced by RESAC.
Single Fused Map Cache: false
Extent:
XMin: 1283741.8871391076
YMin: 428110.4566929135
XMax: 1369581.7821522309
YMax: 547270.56167979
Spatial Reference: 102685
(2248)
Initial Extent:
XMin: 1283741.8871391076
YMin: 428110.4566929135
XMax: 1369581.7821522309
YMax: 547270.56167979
Spatial Reference: 102685
(2248)
Full Extent:
XMin: 1283741.8871391076
YMin: 428110.4566929135
XMax: 1369581.7821522309
YMax: 547270.56167979
Spatial Reference: 102685
(2248)
Pixel Size X: 13.123359580052481
Pixel Size Y: 13.123359580052483
Band Count: 4
Pixel Type: U8
RasterFunction Infos: {"rasterFunctionInfos": [{
"name": "None",
"description": "",
"help": ""
}]}
Mensuration Capabilities: Basic
Has Histograms: true
Has Colormap: false
Has Multi Dimensions : false
Rendering Rule:
Min Scale: 0
Max Scale: 0
Copyright Text:
Service Data Type: esriImageServiceDataTypeGeneric
Min Values: 1, 1, 6, 1
Max Values: 255, 255, 255, 255
Mean Values: 123.46366018577, 124.28790698082, 129.16178272157, 126.00564768466
Standard Deviation Values: 42.337123123018, 41.942511029235, 39.361801936643, 45.570372159714
Object ID Field:
Fields:
None
Default Mosaic Method: Center
Allowed Mosaic Methods:
SortField:
SortValue: null
Mosaic Operator: First
Default Compression Quality: 75
Default Resampling Method: Bilinear
Max Record Count: null
Max Image Height: 4100
Max Image Width: 15000
Max Download Image Count: null
Max Mosaic Image Count: null
Allow Raster Function: true
Allow Copy: null
Allow Analysis: null
Allow Compute TiePoints: false
Supports Statistics: false
Supports Advanced Queries: false
Use StandardizedQueries: true
Raster Type Infos:
Name: Raster Dataset
Description: Supports all ArcGIS Raster Datasets
Help:
Has Raster Attribute Table: false
Edit Fields Info: null
Ownership Based AccessControl For Rasters: null
Child Resources:
Info
Histograms
Key Properties
Legend
Raster Function Infos
Supported Operations:
Export Image
Identify
Measure
Compute Histograms
Compute Statistics Histograms
Get Samples
Compute Class Statistics
Query Boundary
Compute Pixel Location
Compute Angles
Validate
Project