{
 "currentVersion": 10.91,
 "serviceDescription": "Anacostia imagery depicting year 2000 ground conditions captured by Ikonos satellite. Scenes from Spring 1999 and 2000 were mosiaced by RESAC.",
 "name": "DEP/anacostia_ikonos_2000",
 "description": "Anacostia imagery depicting year 2000 ground conditions captured by Ikonos satellite. Scenes from Spring 1999 and 2000 were mosiaced by RESAC.",
 "extent": {
  "xmin": 1283741.8871391076,
  "ymin": 428110.4566929135,
  "xmax": 1369581.7821522309,
  "ymax": 547270.56167979,
  "spatialReference": {
   "wkid": 102685,
   "latestWkid": 2248
  }
 },
 "initialExtent": {
  "xmin": 1283741.8871391076,
  "ymin": 428110.4566929135,
  "xmax": 1369581.7821522309,
  "ymax": 547270.56167979,
  "spatialReference": {
   "wkid": 102685,
   "latestWkid": 2248
  }
 },
 "fullExtent": {
  "xmin": 1283741.8871391076,
  "ymin": 428110.4566929135,
  "xmax": 1369581.7821522309,
  "ymax": 547270.56167979,
  "spatialReference": {
   "wkid": 102685,
   "latestWkid": 2248
  }
 },
 "pixelSizeX": 13.123359580052481,
 "pixelSizeY": 13.123359580052483,
 "bandCount": 4,
 "pixelType": "U8",
 "minPixelSize": 0,
 "maxPixelSize": 0,
 "copyrightText": "",
 "serviceDataType": "esriImageServiceDataTypeGeneric",
 "minValues": [
  1,
  1,
  6,
  1
 ],
 "maxValues": [
  255,
  255,
  255,
  255
 ],
 "meanValues": [
  123.46366018577,
  124.28790698082,
  129.16178272157,
  126.00564768466
 ],
 "stdvValues": [
  42.337123123018,
  41.942511029235,
  39.361801936643,
  45.570372159714
 ],
 "objectIdField": "",
 "fields": [],
 "capabilities": "Image,Metadata,Mensuration",
 "defaultMosaicMethod": "Center",
 "allowedMosaicMethods": "",
 "sortField": "",
 "sortValue": null,
 "sortAscending": true,
 "mosaicOperator": "First",
 "defaultCompressionQuality": 75,
 "defaultResamplingMethod": "Bilinear",
 "maxImageHeight": 4100,
 "maxImageWidth": 15000,
 "allowRasterFunction": true,
 "rasterFunctionInfos": [
  {
   "name": "None",
   "description": "",
   "help": ""
  }
 ],
 "rasterTypeInfos": [
  {
   "name": "Raster Dataset",
   "description": "Supports all ArcGIS Raster Datasets",
   "help": ""
  }
 ],
 "mensurationCapabilities": "Basic",
 "hasHistograms": true,
 "hasColormap": false,
 "hasRasterAttributeTable": false,
 "minScale": 0,
 "maxScale": 0,
 "exportTilesAllowed": false,
 "hasMultidimensions": false,
 "supportsStatistics": false,
 "supportsAdvancedQueries": false,
 "editFieldsInfo": null,
 "ownershipBasedAccessControlForRasters": null,
 "allowComputeTiePoints": false,
 "useStandardizedQueries": true,
 "advancedQueryCapabilities": {
  "useStandardizedQueries": true,
  "supportsStatistics": false,
  "supportsOrderBy": false,
  "supportsDistinct": false,
  "supportsPagination": false
 },
 "spatialReference": {
  "wkid": 102685,
  "latestWkid": 2248
 }
}
