{
 "currentVersion": 11.5,
 "serviceDescription": "Resiliency/SLR_Depth_2ft",
 "serviceItemId": "9051e0293f644c3f88b10a81a21f6689",
 "name": "Resiliency/SLR_Depth_2ft",
 "description": "",
 "extent": {
  "xmin": 351127.5725807048,
  "ymin": 56027.2533714303,
  "xmax": 429429.8596095699,
  "ymax": 228049.74380804456,
  "spatialReference": {
   "wkid": 103068,
   "latestWkid": 6487
  }
 },
 "initialExtent": {
  "xmin": 351127.5725807048,
  "ymin": 56027.2533714303,
  "xmax": 429429.8596095699,
  "ymax": 228049.74380804456,
  "spatialReference": {
   "wkid": 103068,
   "latestWkid": 6487
  }
 },
 "fullExtent": {
  "xmin": 351127.5725807048,
  "ymin": 56027.2533714303,
  "xmax": 429429.8596095699,
  "ymax": 228049.74380804456,
  "spatialReference": {
   "wkid": 103068,
   "latestWkid": 6487
  }
 },
 "sortableFields": "",
 "bandCount": 1,
 "pixelType": "F32",
 "minValues": [
  0
 ],
 "maxValues": [
  3.280839443206787
 ],
 "meanValues": [
  0.12285237157807917
 ],
 "stdvValues": [
  0.46436227217085746
 ],
 "serviceProperties": "Center<\/MosaicMethod>First<\/MosaicOperator>true<\/SortAscending><\/LockImageID><\/TileOrderField>0<\/TileOrderBase>0.000000<\/AvgImageSpacingX>0.000000<\/AvgImageSpacingY>0.0<\/ViewPointX>0.0<\/ViewPointY>0.0<\/ViewPointDefShiftX>0.0<\/ViewPointDefShiftY>None<\/CompressionMethod>75<\/CompressionQuality>0.010000<\/CompressionTolerance>Bilinear<\/SamplingMethod><\/ImageServiceProperties><\/ImageServer>",
 "allowedFields": "",
 "hasMultidimensions": false,
 "pixelSizeX": 2.6711566837983582,
 "pixelSizeY": 2.6711566837983582,
 "meanPixelSize": 2.6711566837983582,
 "datasetFormat": "FGDBR",
 "uncompressedSize": 7551169144,
 "blockWidth": 128,
 "blockHeight": 128,
 "compressionType": "NONE",
 "bandNames": [
  "Band_1"
 ],
 "allowCopy": true,
 "allowAnalysis": true,
 "itemAccess": false,
 "inspectionCapabilities": "",
 "minPixelSize": 0,
 "maxPixelSize": 0,
 "copyrightText": "",
 "serviceDataType": "esriImageServiceDataTypeGeneric",
 "serviceSourceType": "esriImageServiceSourceTypeDataset",
 "objectIdField": "",
 "fields": [],
 "capabilities": "Image,Metadata,Mensuration",
 "defaultMosaicMethod": "Center",
 "allowedMosaicMethods": "",
 "sortField": "",
 "sortValue": null,
 "sortAscending": true,
 "mosaicOperator": "First",
 "defaultCompressionQuality": 75,
 "defaultResamplingMethod": "Bilinear",
 "maxImageHeight": 4100,
 "maxImageWidth": 15000,
 "allowRasterFunction": true,
 "rasterFunctionInfos": [
  {
   "name": "None",
   "description": "",
   "help": ""
  }
 ],
 "rasterTypeInfos": [
  {
   "name": "Raster Dataset",
   "description": "Supports all ArcGIS Raster Datasets",
   "help": ""
  }
 ],
 "mensurationCapabilities": "Basic",
 "hasHistograms": true,
 "hasColormap": false,
 "hasRasterAttributeTable": false,
 "minScale": 0,
 "maxScale": 0,
 "exportTilesAllowed": false,
 "supportsStatistics": false,
 "supportsAdvancedQueries": false,
 "editFieldsInfo": null,
 "ownershipBasedAccessControlForRasters": null,
 "allowComputeTiePoints": false,
 "useStandardizedQueries": true,
 "advancedQueryCapabilities": {
  "useStandardizedQueries": true,
  "supportsStatistics": false,
  "supportsOrderBy": false,
  "supportsDistinct": false,
  "supportsPagination": false
 },
 "spatialReference": {
  "wkid": 103068,
  "latestWkid": 6487
 }
}
