View In:
ArcGIS JavaScript
ArcGIS Online Map Viewer
ArcGIS Earth
Service Description: The USDA Forest Service (USFS) builds two versions of percent tree canopy cover data, in order to serve needs of multiple user communities. These datasets encompass conterminous United States (CONUS), Coastal Alaska, Hawaii, and Puerto Rico and U.S. Virgin Islands (PRUSVI). The two versions of data within the v2021-4 TCC product suite include: The initial model outputs referred to as the Science data; And a modified version built for the National Land Cover Database and referred to as NLCD data. The NLCD product suite includes data for years 2011, 2013, 2016, 2019 and 2021. The NCLD data are processed to remove small interannual changes from the annual TCC timeseries, and to mask TCC pixels that are known to be 0 percent TCC, non-tree agriculture, and water. A small interannual change is defined as a TCC change less than an increase or decrease of 10 percent compared to a TCC baseline value established in a prior year. The initial TCC baseline value is the mean of 2008-2010 TCC data. For each year following 2011, on a pixel-wise basis TCC values are updated to a new baseline value if an increase or decrease of 10 percent TCC occurs relative to the 2008-2010 TCC baseline value. If no increase or decrease greater than 10 percent TCC occurs relative to the 2008-2010 baseline, then the 2008-2010 TCC baseline value is caried through to the next year in the timeseries. Pixel values range from 0 to 100 percent. The non-processing area is represented by value 254, and the background is represented by the value 255. The Science and NLCD tree canopy cover data are accessible for multiple user communities, through multiple channels and platforms. For information on the Science data and processing steps see the Science metadata. Information on the NLCD data and processing steps are included here.
Name: Resiliency/MLRC_TreeCanopy
Description: The USDA Forest Service (USFS) builds two versions of percent tree canopy cover data, in order to serve needs of multiple user communities. These datasets encompass conterminous United States (CONUS), Coastal Alaska, Hawaii, and Puerto Rico and U.S. Virgin Islands (PRUSVI). The two versions of data within the v2021-4 TCC product suite include: The initial model outputs referred to as the Science data; And a modified version built for the National Land Cover Database and referred to as NLCD data. The NLCD product suite includes data for years 2011, 2013, 2016, 2019 and 2021. The NCLD data are processed to remove small interannual changes from the annual TCC timeseries, and to mask TCC pixels that are known to be 0 percent TCC, non-tree agriculture, and water. A small interannual change is defined as a TCC change less than an increase or decrease of 10 percent compared to a TCC baseline value established in a prior year. The initial TCC baseline value is the mean of 2008-2010 TCC data. For each year following 2011, on a pixel-wise basis TCC values are updated to a new baseline value if an increase or decrease of 10 percent TCC occurs relative to the 2008-2010 TCC baseline value. If no increase or decrease greater than 10 percent TCC occurs relative to the 2008-2010 baseline, then the 2008-2010 TCC baseline value is caried through to the next year in the timeseries. Pixel values range from 0 to 100 percent. The non-processing area is represented by value 254, and the background is represented by the value 255. The Science and NLCD tree canopy cover data are accessible for multiple user communities, through multiple channels and platforms. For information on the Science data and processing steps see the Science metadata. Information on the NLCD data and processing steps are included here.
Single Fused Map Cache: false
Extent:
XMin: -77.96220300015028
YMin: 38.254587999591045
XMax: -76.66951500017417
YMax: 39.720045000284685
Spatial Reference: 4326
(4326)
LatestVCSWkid(0)
Initial Extent:
XMin: -77.96220300015028
YMin: 38.254587999591045
XMax: -76.66951500017417
YMax: 39.720045000284685
Spatial Reference: 4326
(4326)
LatestVCSWkid(0)
Full Extent:
XMin: -77.96220300015028
YMin: 38.254587999591045
XMax: -76.66951500017417
YMax: 39.720045000284685
Spatial Reference: 4326
(4326)
LatestVCSWkid(0)
Pixel Size X: 3.507972862893107E-4
Pixel Size Y: 3.5083959796352394E-4
Band Count: 3
Pixel Type: U8
RasterFunction Infos: {"rasterFunctionInfos": [{
"name": "None",
"description": "",
"help": ""
}]}
Mensuration Capabilities: Basic
Inspection Capabilities:
Has Histograms: false
Has Colormap: false
Has Multi Dimensions : false
Rendering Rule:
Min Scale: 0
Max Scale: 0
Copyright Text: Funding for this project was provided by the U.S. Forest Service (USFS). RedCastle Resources produced the dataset under contract to the USFS Geospatial Technology and Applications Center.
Service Data Type: esriImageServiceDataTypeThematic
Min Values: N/A
Max Values: N/A
Mean Values: N/A
Standard Deviation Values: N/A
Object ID Field:
Fields:
None
Default Mosaic Method: Center
Allowed Mosaic Methods:
SortField:
SortValue: null
Mosaic Operator: First
Default Compression Quality: 75
Default Resampling Method: Bilinear
Max Record Count: null
Max Image Height: 4100
Max Image Width: 15000
Max Download Image Count: null
Max Mosaic Image Count: null
Allow Raster Function: true
Allow Copy: true
Allow Analysis: true
Allow Compute TiePoints: false
Supports Statistics: false
Supports Advanced Queries: false
Use StandardizedQueries: true
Raster Type Infos:
Name: Raster Dataset
Description: Supports all ArcGIS Raster Datasets
Help:
Has Raster Attribute Table: false
Edit Fields Info: null
Ownership Based AccessControl For Rasters: null
Child Resources:
Info
Statistics
Key Properties
Legend
Raster Function Infos
Supported Operations:
Export Image
Identify
Measure
Compute Histograms
Compute Statistics Histograms
Get Samples
Compute Class Statistics
Query Boundary
Compute Pixel Location
Compute Angles
Validate
Project