View In:
ArcGIS JavaScript
ArcGIS Online Map Viewer
ArcGIS Earth
Service Description: Resiliency/SLR_Depth_2ft
Name: Resiliency/SLR_Depth_2ft
Description:
Single Fused Map Cache: false
Extent:
XMin: 351127.5725807048
YMin: 56027.2533714303
XMax: 429429.8596095699
YMax: 228049.74380804456
Spatial Reference: 103068
(6487)
LatestVCSWkid(0)
Initial Extent:
XMin: 351127.5725807048
YMin: 56027.2533714303
XMax: 429429.8596095699
YMax: 228049.74380804456
Spatial Reference: 103068
(6487)
LatestVCSWkid(0)
Full Extent:
XMin: 351127.5725807048
YMin: 56027.2533714303
XMax: 429429.8596095699
YMax: 228049.74380804456
Spatial Reference: 103068
(6487)
LatestVCSWkid(0)
Pixel Size X: 2.6711566837983582
Pixel Size Y: 2.6711566837983582
Band Count: 1
Pixel Type: F32
RasterFunction Infos: {"rasterFunctionInfos": [{
"name": "None",
"description": "",
"help": ""
}]}
Mensuration Capabilities: Basic
Inspection Capabilities:
Has Histograms: true
Has Colormap: false
Has Multi Dimensions : false
Rendering Rule:
Min Scale: 0
Max Scale: 0
Copyright Text:
Service Data Type: esriImageServiceDataTypeGeneric
Min Values: 0
Max Values: 3.280839443206787
Mean Values: 0.12285237157807917
Standard Deviation Values: 0.46436227217085746
Object ID Field:
Fields:
None
Default Mosaic Method: Center
Allowed Mosaic Methods:
SortField:
SortValue: null
Mosaic Operator: First
Default Compression Quality: 75
Default Resampling Method: Bilinear
Max Record Count: null
Max Image Height: 4100
Max Image Width: 15000
Max Download Image Count: null
Max Mosaic Image Count: null
Allow Raster Function: true
Allow Copy: true
Allow Analysis: true
Allow Compute TiePoints: false
Supports Statistics: false
Supports Advanced Queries: false
Use StandardizedQueries: true
Raster Type Infos:
Name: Raster Dataset
Description: Supports all ArcGIS Raster Datasets
Help:
Has Raster Attribute Table: false
Edit Fields Info: null
Ownership Based AccessControl For Rasters: null
Child Resources:
Info
Histograms
Statistics
Key Properties
Legend
Raster Function Infos
Supported Operations:
Export Image
Identify
Measure
Compute Histograms
Compute Statistics Histograms
Get Samples
Compute Class Statistics
Query Boundary
Compute Pixel Location
Compute Angles
Validate
Project